BEGIN:VCALENDAR
PRODID:-//eluceo/ical//2.0/EN
VERSION:2.0
CALSCALE:GREGORIAN
BEGIN:VEVENT
UID:cdfe9f6e59a4f101469fc91e67a96e50
DTSTAMP:20260422T085014Z
SUMMARY:Bouřlivé výšiny
DESCRIPTION:<p>Na větrných yorkshirských pláních se zrodila láska\, k
 terá vzdorovala všem pravidlům… a zničila vše\, co jí stálo v ces
 tě. Heathcliff (Jacob Elordi) a Catherine (Margot Robbie) – dva osudy s
 pojené vášní\, rozdělené osudem. Inspirováno největším milostný
 m příběhem všech dob.</p>
URL:https://kino.kzvalmez.cz/udalost/6027-bourlive-vysiny/
DTSTART:20260421T183000
DTEND:20260421T204600
LOCATION:Kino Valmez - Velký sál kina
ORGANIZER;CN=Kino Valmez:mailto:kzvalmez@kzvalmez.cz
END:VEVENT
END:VCALENDAR
