BEGIN:VCALENDAR
PRODID:-//eluceo/ical//2.0/EN
VERSION:2.0
CALSCALE:GREGORIAN
BEGIN:VEVENT
UID:74b7f1618d40c92b7f39e5269ab6830d
DTSTAMP:20260425T104820Z
SUMMARY:Hokum
DESCRIPTION:Spisovatel hororů navštíví irský hostinec\, aby rozptýlil
  popel svých rodičů\, aniž by tušil\, že tento objekt je údajně po
 sedlý čarodějnicí. 
URL:https://kino.kzvalmez.cz/udalost/6162-hokum/
DTSTART:20260506T193000
DTEND:20260506T211100
LOCATION:Kino Valmez - Velký sál kina
ORGANIZER;CN=Kino Valmez:mailto:kzvalmez@kzvalmez.cz
END:VEVENT
END:VCALENDAR
